BEGIN:VCALENDAR
VERSION:2.0
PRODID:-//Hennepin County Master Gardeners - ECPv6.15.17.1//NONSGML v1.0//EN
CALSCALE:GREGORIAN
METHOD:PUBLISH
X-WR-CALNAME:Hennepin County Master Gardeners
X-ORIGINAL-URL:https://hennepinmastergardeners.org
X-WR-CALDESC:Events for Hennepin County Master Gardeners
REFRESH-INTERVAL;VALUE=DURATION:PT1H
X-Robots-Tag:noindex
X-PUBLISHED-TTL:PT1H
BEGIN:VTIMEZONE
TZID:America/Menominee
BEGIN:DAYLIGHT
TZOFFSETFROM:-0600
TZOFFSETTO:-0500
TZNAME:CDT
DTSTART:20230312T080000
END:DAYLIGHT
BEGIN:STANDARD
TZOFFSETFROM:-0500
TZOFFSETTO:-0600
TZNAME:CST
DTSTART:20231105T070000
END:STANDARD
BEGIN:DAYLIGHT
TZOFFSETFROM:-0600
TZOFFSETTO:-0500
TZNAME:CDT
DTSTART:20240310T080000
END:DAYLIGHT
BEGIN:STANDARD
TZOFFSETFROM:-0500
TZOFFSETTO:-0600
TZNAME:CST
DTSTART:20241103T070000
END:STANDARD
BEGIN:DAYLIGHT
TZOFFSETFROM:-0600
TZOFFSETTO:-0500
TZNAME:CDT
DTSTART:20250309T080000
END:DAYLIGHT
BEGIN:STANDARD
TZOFFSETFROM:-0500
TZOFFSETTO:-0600
TZNAME:CST
DTSTART:20251102T070000
END:STANDARD
END:VTIMEZONE
BEGIN:VEVENT
DTSTART;TZID=America/Menominee:20240613T190000
DTEND;TZID=America/Menominee:20240613T200000
DTSTAMP:20260423T210312
CREATED:20240204T012042Z
LAST-MODIFIED:20240205T021028Z
UID:10000732-1718305200-1718308800@hennepinmastergardeners.org
SUMMARY:Growing Vegetables in Containers
DESCRIPTION:Growing Vegetables in Containers\nWelcome to Growing Vegetables in Containers. Whether you are a gardening novice or are looking to expand your knowledge of growing food\, there is information in this class for everyone. \nThis is a one-hour class that will be repeated throughout the Spring. The content is the same for each occurrence\, but the presenter may be different.  \nRegistration is required. \nREGISTER HERE \nYou will receive a Zoom link in your confirmation email. You only need to register once; the Zoom link will be the same for all occurrences of the class\, so you may attend as many times as you wish.
URL:https://hennepinmastergardeners.org/events/growing-vegetables-in-containers-2024/2024-06-13/
LOCATION:Online via Zoom
CATEGORIES:Master Gardener Led Classes,On-line Events
ATTACH;FMTTYPE=image/jpeg:https://hennepinmastergardeners.org/wp-content/uploads/2024/02/Vegetables_MNHCMG_003.jpg
END:VEVENT
BEGIN:VEVENT
DTSTART;TZID=America/Menominee:20240516T190000
DTEND;TZID=America/Menominee:20240516T200000
DTSTAMP:20260423T210312
CREATED:20240204T012042Z
LAST-MODIFIED:20240205T021028Z
UID:10000731-1715886000-1715889600@hennepinmastergardeners.org
SUMMARY:Growing Vegetables in Containers
DESCRIPTION:Growing Vegetables in Containers\nWelcome to Growing Vegetables in Containers. Whether you are a gardening novice or are looking to expand your knowledge of growing food\, there is information in this class for everyone. \nThis is a one-hour class that will be repeated throughout the Spring. The content is the same for each occurrence\, but the presenter may be different.  \nRegistration is required. \nREGISTER HERE \nYou will receive a Zoom link in your confirmation email. You only need to register once; the Zoom link will be the same for all occurrences of the class\, so you may attend as many times as you wish.
URL:https://hennepinmastergardeners.org/events/growing-vegetables-in-containers-2024/2024-05-16/
LOCATION:Online via Zoom
CATEGORIES:Master Gardener Led Classes,On-line Events
ATTACH;FMTTYPE=image/jpeg:https://hennepinmastergardeners.org/wp-content/uploads/2024/02/Vegetables_MNHCMG_003.jpg
END:VEVENT
BEGIN:VEVENT
DTSTART;TZID=America/Menominee:20240511T100000
DTEND;TZID=America/Menominee:20240511T110000
DTSTAMP:20260423T210312
CREATED:20240213T013254Z
LAST-MODIFIED:20240213T021622Z
UID:10000737-1715421600-1715425200@hennepinmastergardeners.org
SUMMARY:Growing\, Harvesting and Enjoying Herbs
DESCRIPTION:Growing\, Harvesting and Enjoying Herbs\nWelcome to Growing\, Harvesting and Enjoying Herbs. Whether you are a gardening novice or are looking to expand your culinary garden\, there is information in this class for everyone. \nThis is a one hour class that will be repeated throughout the Spring. The content is the same for each occurrence\, but the presenter may be different. Registration is required. You will receive a zoom link in your confirmation email. You only need to register once; the zoom link will be the same for all occurrences of the class so you may attend as many times as you wish. \nRegistration is required for the Growing\, Harvesting and Enjoying Herbs class. \nREGISTER HERE
URL:https://hennepinmastergardeners.org/events/growing-harvesting-and-enjoying-herbs-2024/2024-05-11/
LOCATION:Online via Zoom
CATEGORIES:Master Gardener Led Classes,On-line Events
ATTACH;FMTTYPE=image/jpeg:https://hennepinmastergardeners.org/wp-content/uploads/2024/02/growing-herbs-pexels-4750311-scaled.jpg
END:VEVENT
BEGIN:VEVENT
DTSTART;TZID=America/Menominee:20240425T190000
DTEND;TZID=America/Menominee:20240425T200000
DTSTAMP:20260423T210312
CREATED:20240213T013254Z
LAST-MODIFIED:20240213T021622Z
UID:10000736-1714071600-1714075200@hennepinmastergardeners.org
SUMMARY:Growing\, Harvesting and Enjoying Herbs
DESCRIPTION:Growing\, Harvesting and Enjoying Herbs\nWelcome to Growing\, Harvesting and Enjoying Herbs. Whether you are a gardening novice or are looking to expand your culinary garden\, there is information in this class for everyone. \nThis is a one hour class that will be repeated throughout the Spring. The content is the same for each occurrence\, but the presenter may be different. Registration is required. You will receive a zoom link in your confirmation email. You only need to register once; the zoom link will be the same for all occurrences of the class so you may attend as many times as you wish. \nRegistration is required for the Growing\, Harvesting and Enjoying Herbs class. \nREGISTER HERE
URL:https://hennepinmastergardeners.org/events/growing-harvesting-and-enjoying-herbs-2024/2024-04-25/
LOCATION:Online via Zoom
CATEGORIES:Master Gardener Led Classes,On-line Events
ATTACH;FMTTYPE=image/jpeg:https://hennepinmastergardeners.org/wp-content/uploads/2024/02/growing-herbs-pexels-4750311-scaled.jpg
END:VEVENT
BEGIN:VEVENT
DTSTART;TZID=America/Menominee:20240418T190000
DTEND;TZID=America/Menominee:20240418T200000
DTSTAMP:20260423T210312
CREATED:20240204T012042Z
LAST-MODIFIED:20240205T021028Z
UID:10000730-1713466800-1713470400@hennepinmastergardeners.org
SUMMARY:Growing Vegetables in Containers
DESCRIPTION:Growing Vegetables in Containers\nWelcome to Growing Vegetables in Containers. Whether you are a gardening novice or are looking to expand your knowledge of growing food\, there is information in this class for everyone. \nThis is a one-hour class that will be repeated throughout the Spring. The content is the same for each occurrence\, but the presenter may be different.  \nRegistration is required. \nREGISTER HERE \nYou will receive a Zoom link in your confirmation email. You only need to register once; the Zoom link will be the same for all occurrences of the class\, so you may attend as many times as you wish.
URL:https://hennepinmastergardeners.org/events/growing-vegetables-in-containers-2024/2024-04-18/
LOCATION:Online via Zoom
CATEGORIES:Master Gardener Led Classes,On-line Events
ATTACH;FMTTYPE=image/jpeg:https://hennepinmastergardeners.org/wp-content/uploads/2024/02/Vegetables_MNHCMG_003.jpg
END:VEVENT
BEGIN:VEVENT
DTSTART;TZID=America/Menominee:20240413T100000
DTEND;TZID=America/Menominee:20240413T110000
DTSTAMP:20260423T210312
CREATED:20240213T013254Z
LAST-MODIFIED:20240213T021622Z
UID:10000735-1713002400-1713006000@hennepinmastergardeners.org
SUMMARY:Growing\, Harvesting and Enjoying Herbs
DESCRIPTION:Growing\, Harvesting and Enjoying Herbs\nWelcome to Growing\, Harvesting and Enjoying Herbs. Whether you are a gardening novice or are looking to expand your culinary garden\, there is information in this class for everyone. \nThis is a one hour class that will be repeated throughout the Spring. The content is the same for each occurrence\, but the presenter may be different. Registration is required. You will receive a zoom link in your confirmation email. You only need to register once; the zoom link will be the same for all occurrences of the class so you may attend as many times as you wish. \nRegistration is required for the Growing\, Harvesting and Enjoying Herbs class. \nREGISTER HERE
URL:https://hennepinmastergardeners.org/events/growing-harvesting-and-enjoying-herbs-2024/2024-04-13/
LOCATION:Online via Zoom
CATEGORIES:Master Gardener Led Classes,On-line Events
ATTACH;FMTTYPE=image/jpeg:https://hennepinmastergardeners.org/wp-content/uploads/2024/02/growing-herbs-pexels-4750311-scaled.jpg
END:VEVENT
BEGIN:VEVENT
DTSTART;TZID=America/Menominee:20240406T100000
DTEND;TZID=America/Menominee:20240406T110000
DTSTAMP:20260423T210312
CREATED:20240204T012042Z
LAST-MODIFIED:20240205T021028Z
UID:10000729-1712397600-1712401200@hennepinmastergardeners.org
SUMMARY:Growing Vegetables in Containers
DESCRIPTION:Growing Vegetables in Containers\nWelcome to Growing Vegetables in Containers. Whether you are a gardening novice or are looking to expand your knowledge of growing food\, there is information in this class for everyone. \nThis is a one-hour class that will be repeated throughout the Spring. The content is the same for each occurrence\, but the presenter may be different.  \nRegistration is required. \nREGISTER HERE \nYou will receive a Zoom link in your confirmation email. You only need to register once; the Zoom link will be the same for all occurrences of the class\, so you may attend as many times as you wish.
URL:https://hennepinmastergardeners.org/events/growing-vegetables-in-containers-2024/2024-04-06/
LOCATION:Online via Zoom
CATEGORIES:Master Gardener Led Classes,On-line Events
ATTACH;FMTTYPE=image/jpeg:https://hennepinmastergardeners.org/wp-content/uploads/2024/02/Vegetables_MNHCMG_003.jpg
END:VEVENT
BEGIN:VEVENT
DTSTART;TZID=America/Menominee:20240321T190000
DTEND;TZID=America/Menominee:20240321T200000
DTSTAMP:20260423T210312
CREATED:20240213T013254Z
LAST-MODIFIED:20240213T021622Z
UID:10000734-1711047600-1711051200@hennepinmastergardeners.org
SUMMARY:Growing\, Harvesting and Enjoying Herbs
DESCRIPTION:Growing\, Harvesting and Enjoying Herbs\nWelcome to Growing\, Harvesting and Enjoying Herbs. Whether you are a gardening novice or are looking to expand your culinary garden\, there is information in this class for everyone. \nThis is a one hour class that will be repeated throughout the Spring. The content is the same for each occurrence\, but the presenter may be different. Registration is required. You will receive a zoom link in your confirmation email. You only need to register once; the zoom link will be the same for all occurrences of the class so you may attend as many times as you wish. \nRegistration is required for the Growing\, Harvesting and Enjoying Herbs class. \nREGISTER HERE
URL:https://hennepinmastergardeners.org/events/growing-harvesting-and-enjoying-herbs-2024/2024-03-21/
LOCATION:Online via Zoom
CATEGORIES:Master Gardener Led Classes,On-line Events
ATTACH;FMTTYPE=image/jpeg:https://hennepinmastergardeners.org/wp-content/uploads/2024/02/growing-herbs-pexels-4750311-scaled.jpg
END:VEVENT
BEGIN:VEVENT
DTSTART;TZID=America/Menominee:20240314T190000
DTEND;TZID=America/Menominee:20240314T200000
DTSTAMP:20260423T210312
CREATED:20240204T012042Z
LAST-MODIFIED:20240205T021028Z
UID:10000728-1710442800-1710446400@hennepinmastergardeners.org
SUMMARY:Growing Vegetables in Containers
DESCRIPTION:Growing Vegetables in Containers\nWelcome to Growing Vegetables in Containers. Whether you are a gardening novice or are looking to expand your knowledge of growing food\, there is information in this class for everyone. \nThis is a one-hour class that will be repeated throughout the Spring. The content is the same for each occurrence\, but the presenter may be different.  \nRegistration is required. \nREGISTER HERE \nYou will receive a Zoom link in your confirmation email. You only need to register once; the Zoom link will be the same for all occurrences of the class\, so you may attend as many times as you wish.
URL:https://hennepinmastergardeners.org/events/growing-vegetables-in-containers-2024/2024-03-14/
LOCATION:Online via Zoom
CATEGORIES:Master Gardener Led Classes,On-line Events
ATTACH;FMTTYPE=image/jpeg:https://hennepinmastergardeners.org/wp-content/uploads/2024/02/Vegetables_MNHCMG_003.jpg
END:VEVENT
BEGIN:VEVENT
DTSTART;TZID=America/Menominee:20240309T100000
DTEND;TZID=America/Menominee:20240309T110000
DTSTAMP:20260423T210312
CREATED:20240213T013254Z
LAST-MODIFIED:20240213T021622Z
UID:10000733-1709978400-1709982000@hennepinmastergardeners.org
SUMMARY:Growing\, Harvesting and Enjoying Herbs
DESCRIPTION:Growing\, Harvesting and Enjoying Herbs\nWelcome to Growing\, Harvesting and Enjoying Herbs. Whether you are a gardening novice or are looking to expand your culinary garden\, there is information in this class for everyone. \nThis is a one hour class that will be repeated throughout the Spring. The content is the same for each occurrence\, but the presenter may be different. Registration is required. You will receive a zoom link in your confirmation email. You only need to register once; the zoom link will be the same for all occurrences of the class so you may attend as many times as you wish. \nRegistration is required for the Growing\, Harvesting and Enjoying Herbs class. \nREGISTER HERE
URL:https://hennepinmastergardeners.org/events/growing-harvesting-and-enjoying-herbs-2024/2024-03-09/
LOCATION:Online via Zoom
CATEGORIES:Master Gardener Led Classes,On-line Events
ATTACH;FMTTYPE=image/jpeg:https://hennepinmastergardeners.org/wp-content/uploads/2024/02/growing-herbs-pexels-4750311-scaled.jpg
END:VEVENT
BEGIN:VEVENT
DTSTART;TZID=America/Menominee:20240302T100000
DTEND;TZID=America/Menominee:20240302T110000
DTSTAMP:20260423T210312
CREATED:20240204T012042Z
LAST-MODIFIED:20240205T021028Z
UID:10000727-1709373600-1709377200@hennepinmastergardeners.org
SUMMARY:Growing Vegetables in Containers
DESCRIPTION:Growing Vegetables in Containers\nWelcome to Growing Vegetables in Containers. Whether you are a gardening novice or are looking to expand your knowledge of growing food\, there is information in this class for everyone. \nThis is a one-hour class that will be repeated throughout the Spring. The content is the same for each occurrence\, but the presenter may be different.  \nRegistration is required. \nREGISTER HERE \nYou will receive a Zoom link in your confirmation email. You only need to register once; the Zoom link will be the same for all occurrences of the class\, so you may attend as many times as you wish.
URL:https://hennepinmastergardeners.org/events/growing-vegetables-in-containers-2024/2024-03-02/
LOCATION:Online via Zoom
CATEGORIES:Master Gardener Led Classes,On-line Events
ATTACH;FMTTYPE=image/jpeg:https://hennepinmastergardeners.org/wp-content/uploads/2024/02/Vegetables_MNHCMG_003.jpg
END:VEVENT
END:VCALENDAR