BEGIN:VCALENDAR
VERSION:2.0
PRODID:-//Hennepin County Master Gardeners - ECPv6.15.17.1//NONSGML v1.0//EN
CALSCALE:GREGORIAN
METHOD:PUBLISH
X-WR-CALNAME:Hennepin County Master Gardeners
X-ORIGINAL-URL:https://hennepinmastergardeners.org
X-WR-CALDESC:Events for Hennepin County Master Gardeners
REFRESH-INTERVAL;VALUE=DURATION:PT1H
X-Robots-Tag:noindex
X-PUBLISHED-TTL:PT1H
BEGIN:VTIMEZONE
TZID:America/Menominee
BEGIN:DAYLIGHT
TZOFFSETFROM:-0600
TZOFFSETTO:-0500
TZNAME:CDT
DTSTART:20220313T080000
END:DAYLIGHT
BEGIN:STANDARD
TZOFFSETFROM:-0500
TZOFFSETTO:-0600
TZNAME:CST
DTSTART:20221106T070000
END:STANDARD
BEGIN:DAYLIGHT
TZOFFSETFROM:-0600
TZOFFSETTO:-0500
TZNAME:CDT
DTSTART:20230312T080000
END:DAYLIGHT
BEGIN:STANDARD
TZOFFSETFROM:-0500
TZOFFSETTO:-0600
TZNAME:CST
DTSTART:20231105T070000
END:STANDARD
BEGIN:DAYLIGHT
TZOFFSETFROM:-0600
TZOFFSETTO:-0500
TZNAME:CDT
DTSTART:20240310T080000
END:DAYLIGHT
BEGIN:STANDARD
TZOFFSETFROM:-0500
TZOFFSETTO:-0600
TZNAME:CST
DTSTART:20241103T070000
END:STANDARD
BEGIN:DAYLIGHT
TZOFFSETFROM:-0600
TZOFFSETTO:-0500
TZNAME:CDT
DTSTART:20250309T080000
END:DAYLIGHT
BEGIN:STANDARD
TZOFFSETFROM:-0500
TZOFFSETTO:-0600
TZNAME:CST
DTSTART:20251102T070000
END:STANDARD
BEGIN:DAYLIGHT
TZOFFSETFROM:-0600
TZOFFSETTO:-0500
TZNAME:CDT
DTSTART:20260308T080000
END:DAYLIGHT
BEGIN:STANDARD
TZOFFSETFROM:-0500
TZOFFSETTO:-0600
TZNAME:CST
DTSTART:20261101T070000
END:STANDARD
END:VTIMEZONE
BEGIN:VEVENT
DTSTART;TZID=America/Menominee:20250218T190000
DTEND;TZID=America/Menominee:20250218T200000
DTSTAMP:20260423T210851
CREATED:20250106T003118Z
LAST-MODIFIED:20250106T003753Z
UID:10001221-1739905200-1739908800@hennepinmastergardeners.org
SUMMARY:Class #3: Starting Seeds
DESCRIPTION:Welcome to Winter Dreaming for Summer Eating\nThis four-part series encourages the attendees to dream and prepare for the upcoming gardening season. The classes are aimed at people who have done some vegetable gardening and want to be more intentional in their planning\, selecting and growing over the next year. \nThere will be four one-hour classes that can be taken independently or as a complete series. Each class will be presented on a Saturday and repeated the following Tuesday. Registration is required. You will receive a zoom link in your confirmation email. You only need to register once to access the whole series. \nClass #3: Seed Starting\nWould you like to grow varieties of vegetables that aren’t offered as plants in the nurseries? Then starting your own seeds indoors is the answer. We’ll walk you through the process to get from soil and seeds to plants ready for the garden. The process is easy and a great way to get a head start on the season. \nThis class will cover what is required to start seeds inside and how to successfully transition them to your garden. \nRegister for the Winter Dreaming for Summer Eating Series by completing the registration form. \nREGISTER HERE
URL:https://hennepinmastergardeners.org/events/class-3-starting-seeds/2025-02-18/
LOCATION:Online via Zoom
CATEGORIES:Master Gardener Led Classes,On-line Events,Winter Dreaming for Summer Eating Series
ATTACH;FMTTYPE=image/jpeg:https://hennepinmastergardeners.org/wp-content/uploads/2024/01/markus-spiske-4PG6wLlVag4-unsplash.jpg
END:VEVENT
BEGIN:VEVENT
DTSTART;TZID=America/Menominee:20250215T100000
DTEND;TZID=America/Menominee:20250215T110000
DTSTAMP:20260423T210851
CREATED:20250106T003118Z
LAST-MODIFIED:20250106T003753Z
UID:10001220-1739613600-1739617200@hennepinmastergardeners.org
SUMMARY:Class #3: Starting Seeds
DESCRIPTION:Welcome to Winter Dreaming for Summer Eating\nThis four-part series encourages the attendees to dream and prepare for the upcoming gardening season. The classes are aimed at people who have done some vegetable gardening and want to be more intentional in their planning\, selecting and growing over the next year. \nThere will be four one-hour classes that can be taken independently or as a complete series. Each class will be presented on a Saturday and repeated the following Tuesday. Registration is required. You will receive a zoom link in your confirmation email. You only need to register once to access the whole series. \nClass #3: Seed Starting\nWould you like to grow varieties of vegetables that aren’t offered as plants in the nurseries? Then starting your own seeds indoors is the answer. We’ll walk you through the process to get from soil and seeds to plants ready for the garden. The process is easy and a great way to get a head start on the season. \nThis class will cover what is required to start seeds inside and how to successfully transition them to your garden. \nRegister for the Winter Dreaming for Summer Eating Series by completing the registration form. \nREGISTER HERE
URL:https://hennepinmastergardeners.org/events/class-3-starting-seeds/2025-02-15/
LOCATION:Online via Zoom
CATEGORIES:Master Gardener Led Classes,On-line Events,Winter Dreaming for Summer Eating Series
ATTACH;FMTTYPE=image/jpeg:https://hennepinmastergardeners.org/wp-content/uploads/2024/01/markus-spiske-4PG6wLlVag4-unsplash.jpg
END:VEVENT
BEGIN:VEVENT
DTSTART;TZID=America/Menominee:20250211T190000
DTEND;TZID=America/Menominee:20250211T200000
DTSTAMP:20260423T210851
CREATED:20250106T002318Z
LAST-MODIFIED:20250106T005806Z
UID:10001217-1739300400-1739304000@hennepinmastergardeners.org
SUMMARY:Class #2: Selecting your Varieties
DESCRIPTION:Welcome to Winter Dreaming for Summer Eating\nThis four-part series encourages the attendees to dream and prepare for the upcoming gardening season. The classes are aimed at people who have done some vegetable gardening and want to be more intentional in their planning\, selecting and growing over the next year. \nThere will be four one-hour classes that can be taken independently or as a complete series. Each class will be presented on a Saturday and repeated the following Tuesday. Registration is required. You will receive a zoom link in your confirmation email. You only need to register once to access the whole series. \nClass #2: Selecting Your Varieties\nReady to be more deliberate in the variety choices you make for your vegetable garden but are overloaded by all the technical information? From sourcing to seed saving\, we’ll break down the process of choosing the most appropriate varieties to make your vegetable garden lush\, disease resistant\, and bountiful. \nThis class will cover common terms and language used to describe vegetable varieties including: types of seeds\, growing needs\, and harvest expectations. \nRegister for the Winter Dreaming for Summer Eating Series by completing the registration form. \nREGISTER HERE
URL:https://hennepinmastergardeners.org/events/class-2-selecting-your-varieties/2025-02-11/
LOCATION:Online via Zoom
CATEGORIES:Master Gardener Led Classes,On-line Events,Winter Dreaming for Summer Eating Series
ATTACH;FMTTYPE=image/jpeg:https://hennepinmastergardeners.org/wp-content/uploads/2024/01/rdne-stock-project-7782153-pexels.jpg
END:VEVENT
BEGIN:VEVENT
DTSTART;TZID=America/Menominee:20250208T100000
DTEND;TZID=America/Menominee:20250208T110000
DTSTAMP:20260423T210851
CREATED:20250106T002318Z
LAST-MODIFIED:20250106T005806Z
UID:10001216-1739008800-1739012400@hennepinmastergardeners.org
SUMMARY:Class #2: Selecting your Varieties
DESCRIPTION:Welcome to Winter Dreaming for Summer Eating\nThis four-part series encourages the attendees to dream and prepare for the upcoming gardening season. The classes are aimed at people who have done some vegetable gardening and want to be more intentional in their planning\, selecting and growing over the next year. \nThere will be four one-hour classes that can be taken independently or as a complete series. Each class will be presented on a Saturday and repeated the following Tuesday. Registration is required. You will receive a zoom link in your confirmation email. You only need to register once to access the whole series. \nClass #2: Selecting Your Varieties\nReady to be more deliberate in the variety choices you make for your vegetable garden but are overloaded by all the technical information? From sourcing to seed saving\, we’ll break down the process of choosing the most appropriate varieties to make your vegetable garden lush\, disease resistant\, and bountiful. \nThis class will cover common terms and language used to describe vegetable varieties including: types of seeds\, growing needs\, and harvest expectations. \nRegister for the Winter Dreaming for Summer Eating Series by completing the registration form. \nREGISTER HERE
URL:https://hennepinmastergardeners.org/events/class-2-selecting-your-varieties/2025-02-08/
LOCATION:Online via Zoom
CATEGORIES:Master Gardener Led Classes,On-line Events,Winter Dreaming for Summer Eating Series
ATTACH;FMTTYPE=image/jpeg:https://hennepinmastergardeners.org/wp-content/uploads/2024/01/rdne-stock-project-7782153-pexels.jpg
END:VEVENT
BEGIN:VEVENT
DTSTART;TZID=America/Menominee:20250204T190000
DTEND;TZID=America/Menominee:20250204T200000
DTSTAMP:20260423T210851
CREATED:20250106T001409Z
LAST-MODIFIED:20250106T005902Z
UID:10001213-1738695600-1738699200@hennepinmastergardeners.org
SUMMARY:Class #1: Designing your Vegetable Garden
DESCRIPTION:Welcome to Winter Dreaming for Summer Eating\nThis four-part series encourages the attendees to dream and prepare for the upcoming gardening season. The classes are aimed at people who have done some vegetable gardening and want to be more intentional in their planning\, selecting and growing over the next year. \nThere will be four one-hour classes that can be taken independently or as a complete series.  Each class will be presented on a Saturday and repeated the following Tuesday. Registration is required. You will receive a zoom link in your confirmation email. You only need to register once to access the whole series.   \nClass #1: Designing Your Vegetable Garden\nThe world is changing and gardeners everywhere are noticing the effects on their harvests. Adapting your vegetable garden to be more resilient to the effects of climate change can range from simple to complex. We’ll focus on how climate change is impacting Minnesota and factors to consider as you are planning your garden. \nThis class will cover Minnesota climate change adaptations to consider\, soil health\, garden types\, and more. \nRegister for the Winter Dreaming for Summer Eating Series by completing the registration form. \nREGISTER HERE
URL:https://hennepinmastergardeners.org/events/class-1-designing-your-vegetable-garden/2025-02-04/
LOCATION:Online via Zoom
CATEGORIES:Master Gardener Led Classes,On-line Events,Winter Dreaming for Summer Eating Series
ATTACH;FMTTYPE=image/jpeg:https://hennepinmastergardeners.org/wp-content/uploads/2024/01/vegetables-752153_1280-pixabay.jpg
END:VEVENT
BEGIN:VEVENT
DTSTART;TZID=America/Menominee:20250201T100000
DTEND;TZID=America/Menominee:20250201T110000
DTSTAMP:20260423T210852
CREATED:20250106T001409Z
LAST-MODIFIED:20250106T005902Z
UID:10001211-1738404000-1738407600@hennepinmastergardeners.org
SUMMARY:Class #1: Designing your Vegetable Garden
DESCRIPTION:Welcome to Winter Dreaming for Summer Eating\nThis four-part series encourages the attendees to dream and prepare for the upcoming gardening season. The classes are aimed at people who have done some vegetable gardening and want to be more intentional in their planning\, selecting and growing over the next year. \nThere will be four one-hour classes that can be taken independently or as a complete series.  Each class will be presented on a Saturday and repeated the following Tuesday. Registration is required. You will receive a zoom link in your confirmation email. You only need to register once to access the whole series.   \nClass #1: Designing Your Vegetable Garden\nThe world is changing and gardeners everywhere are noticing the effects on their harvests. Adapting your vegetable garden to be more resilient to the effects of climate change can range from simple to complex. We’ll focus on how climate change is impacting Minnesota and factors to consider as you are planning your garden. \nThis class will cover Minnesota climate change adaptations to consider\, soil health\, garden types\, and more. \nRegister for the Winter Dreaming for Summer Eating Series by completing the registration form. \nREGISTER HERE
URL:https://hennepinmastergardeners.org/events/class-1-designing-your-vegetable-garden/2025-02-01/
LOCATION:Online via Zoom
CATEGORIES:Master Gardener Led Classes,On-line Events,Winter Dreaming for Summer Eating Series
ATTACH;FMTTYPE=image/jpeg:https://hennepinmastergardeners.org/wp-content/uploads/2024/01/vegetables-752153_1280-pixabay.jpg
END:VEVENT
BEGIN:VEVENT
DTSTART;TZID=America/Menominee:20230228T070000
DTEND;TZID=America/Menominee:20230228T200000
DTSTAMP:20260423T210852
CREATED:20210103T224252Z
LAST-MODIFIED:20230112T145322Z
UID:10000049-1677567600-1677614400@hennepinmastergardeners.org
SUMMARY:Extending the Growing Season
DESCRIPTION:Extending the Growing Season\nThere are several methods to extend the growing season in Minnesota. Most require planning ahead of time\, or a purchase of new materials. Other methods may involve using what you already have and creating a more sheltered or indoor environment for your vegetables and herbs. \nThis class focuses on crop cover methods\, but will also provide information on other means to extend the growing season. \nThis class is part of a series called: Winter Dreaming for Summer Eating Series. A series of classes presented over four weeks by Hennepin County Master Gardeners. These classes are free to attend\, and you need only register once for the entire series. Each class will take place on a Saturday and will be repeated the following Tuesday. \nWhat does a gardener ponder about during the cold winter days? Dream about their summer vegetable garden\, of course. Take a deeper dive to learn what you can spend your time planning\, selecting and doing while waiting for the outdoor season to begin again. This series of classes provides a post-beginner view of how to plan and get ready for your herb and vegetable garden. \nSIGN UP HERE
URL:https://hennepinmastergardeners.org/events/extending-the-growing-season-2/
CATEGORIES:Master Gardener Led Classes,On-line Events,Winter Dreaming for Summer Eating Series
ATTACH;FMTTYPE=image/jpeg:https://hennepinmastergardeners.org/wp-content/uploads/2021/01/SeedStarting_MinnesotaHennepinCountyMasterGardenerProgram_08.jpg
END:VEVENT
BEGIN:VEVENT
DTSTART;TZID=America/Menominee:20230225T100000
DTEND;TZID=America/Menominee:20230225T110000
DTSTAMP:20260423T210852
CREATED:20210103T223916Z
LAST-MODIFIED:20230112T145234Z
UID:10000050-1677319200-1677322800@hennepinmastergardeners.org
SUMMARY:Extending the Growing Season
DESCRIPTION:Extending the Growing Season\nThere are several methods to extend the growing season in Minnesota. Most require planning ahead of time\, or a purchase of new materials. Other methods may involve using what you already have and creating a more sheltered or indoor environment for your vegetables and herbs. \nThis class focuses on crop cover methods\, but will also provide information on other means to extend the growing season. \nThis class is part of a series called: Winter Dreaming for Summer Eating Series. A series of classes presented over four weeks by Hennepin County Master Gardeners. These classes are free to attend\, and you need only register once for the entire series. Each class will take place on a Saturday and will be repeated the following Tuesday. \nWhat does a gardener ponder about during the cold winter days? Dream about their summer vegetable garden\, of course. Take a deeper dive to learn what you can spend your time planning\, selecting and doing while waiting for the outdoor season to begin again. This series of classes provides a post-beginner view of how to plan and get ready for your herb and vegetable garden. \nSIGN UP HERE
URL:https://hennepinmastergardeners.org/events/extending-the-growing-season/
CATEGORIES:Master Gardener Led Classes,On-line Events,Winter Dreaming for Summer Eating Series
ATTACH;FMTTYPE=image/jpeg:https://hennepinmastergardeners.org/wp-content/uploads/2021/01/SeedStarting_MinnesotaHennepinCountyMasterGardenerProgram_08.jpg
END:VEVENT
BEGIN:VEVENT
DTSTART;TZID=America/Menominee:20230221T190000
DTEND;TZID=America/Menominee:20230221T200000
DTSTAMP:20260423T210852
CREATED:20210103T223507Z
LAST-MODIFIED:20230112T144427Z
UID:10000009-1677006000-1677009600@hennepinmastergardeners.org
SUMMARY:Seed Starting Indoors
DESCRIPTION:Seed Starting Indoors\nWould you like to grow varieties of vegetables and flowers that aren’t offered as bedding plants in the nurseries? Then starting your own seeds indoors is the answer. We’ll walk you through what you need to know to progress from soil and seeds to bedding plants ready for the garden. It is easy and a great way to get a head start on the season. This class will cover what is required to start seeds inside for early outside planting. \nThis class is part of a series called: Winter Dreaming for Summer Eating Series. A series of classes presented over four weeks by Hennepin County Master Gardeners. These classes are free to attend\, and you need only register once for the entire series. Each class will take place on a Saturday and will be repeated the following Tuesday. \nWhat does a gardener ponder about during the cold winter days? Dream about their summer vegetable garden\, of course. Take a deeper dive to learn what you can spend your time planning\, selecting and doing while waiting for the outdoor season to begin again. This series of classes provides a post-beginner view of how to plan and get ready for your herb and vegetable garden. \nSIGN UP HERE
URL:https://hennepinmastergardeners.org/events/seed-starting-indoors-2/
CATEGORIES:Master Gardener Led Classes,On-line Events,Winter Dreaming for Summer Eating Series
ATTACH;FMTTYPE=image/jpeg:https://hennepinmastergardeners.org/wp-content/uploads/2021/01/SeedStarting_Winter_2017_MinnesotaHennepinCountyMasterGardenerProgram_RheaPappas03-scaled.jpg
END:VEVENT
BEGIN:VEVENT
DTSTART;TZID=America/Menominee:20230218T100000
DTEND;TZID=America/Menominee:20230218T110000
DTSTAMP:20260423T210852
CREATED:20210103T223217Z
LAST-MODIFIED:20230112T144331Z
UID:10000010-1676714400-1676718000@hennepinmastergardeners.org
SUMMARY:Seed Starting Indoors
DESCRIPTION:Seed Starting Indoors\nWould you like to grow varieties of vegetables and flowers that aren’t offered as bedding plants in the nurseries? Then starting your own seeds indoors is the answer. We’ll walk you through what you need to know to progress from soil and seeds to bedding plants ready for the garden. It is easy and a great way to get a head start on the season. This class will cover what is required to start seeds inside for early outside planting. \nThis class is part of a series called: Winter Dreaming for Summer Eating Series. A series of classes presented over four weeks by Hennepin County Master Gardeners. These classes are free to attend\, and you need only register once for the entire series. Each class will take place on a Saturday and will be repeated the following Tuesday. \nWhat does a gardener ponder about during the cold winter days? Dream about their summer vegetable garden\, of course. Take a deeper dive to learn what you can spend your time planning\, selecting and doing while waiting for the outdoor season to begin again. This series of classes provides a post-beginner view of how to plan and get ready for your herb and vegetable garden. \nSIGN UP HERE
URL:https://hennepinmastergardeners.org/events/seed-starting-indoors/
CATEGORIES:Master Gardener Led Classes,On-line Events,Winter Dreaming for Summer Eating Series
ATTACH;FMTTYPE=image/jpeg:https://hennepinmastergardeners.org/wp-content/uploads/2021/01/SeedStarting_Winter_2017_MinnesotaHennepinCountyMasterGardenerProgram_RheaPappas03-scaled.jpg
END:VEVENT
BEGIN:VEVENT
DTSTART;TZID=America/Menominee:20230214T190000
DTEND;TZID=America/Menominee:20230214T200000
DTSTAMP:20260423T210852
CREATED:20210103T222820Z
LAST-MODIFIED:20230112T144222Z
UID:10000011-1676401200-1676404800@hennepinmastergardeners.org
SUMMARY:Selecting your Varieties
DESCRIPTION:Selecting your Varieties\nReady to be more deliberate in the variety choices you make for your vegetable garden but are overloaded by all the technical information? From sourcing to seed saving\, we’ll break down the process of choosing the most appropriate varieties to make your vegetable garden lush and plentiful. \nThis class will cover common terms and language used to describe vegetable varieties including: types of seeds\, responsible sourcing\, growing needs\, and harvest expectations. \nThis class is part of a series called: Winter Dreaming for Summer Eating Series. A series of classes presented over four weeks by Hennepin County Master Gardeners. These classes are free to attend\, and you need only register once for the entire series. Each class will take place on a Saturday and will be repeated the following Tuesday. \nWhat does a gardener ponder about during the cold winter days? Dream about their summer vegetable garden\, of course. Take a deeper dive to learn what you can spend your time planning\, selecting and doing while waiting for the outdoor season to begin again. This series of classes provides a post-beginner view of how to plan and get ready for your herb and vegetable garden. \nSIGN UP HERE
URL:https://hennepinmastergardeners.org/events/selecting-your-varieties-2/
CATEGORIES:Master Gardener Led Classes,On-line Events,Winter Dreaming for Summer Eating Series
ATTACH;FMTTYPE=image/jpeg:https://hennepinmastergardeners.org/wp-content/uploads/2021/01/SeedStarting_MinnesotaHennepinCountyMasterGardenerProgram_CarolineHallstrom_01-scaled.jpg
END:VEVENT
BEGIN:VEVENT
DTSTART;TZID=America/Menominee:20230211T100000
DTEND;TZID=America/Menominee:20230211T110000
DTSTAMP:20260423T210852
CREATED:20210103T222519Z
LAST-MODIFIED:20230112T144900Z
UID:10000012-1676109600-1676113200@hennepinmastergardeners.org
SUMMARY:Selecting your Varieties
DESCRIPTION:Selecting your Varieties\nReady to be more deliberate in the variety choices you make for your vegetable garden but are overloaded by all the technical information? From sourcing to seed saving\, we’ll break down the process of choosing the most appropriate varieties to make your vegetable garden lush and plentiful. \nThis class will cover common terms and language used to describe vegetable varieties including: types of seeds\, responsible sourcing\, growing needs\, and harvest expectations. \nThis class is part of a series called: Winter Dreaming for Summer Eating Series. A series of classes presented over four weeks by Hennepin County Master Gardeners. These classes are free to attend\, and you need only register once for the entire series. Each class will take place on a Saturday and will be repeated the following Tuesday. \nWhat does a gardener ponder about during the cold winter days? Dream about their summer vegetable garden\, of course. Take a deeper dive to learn what you can spend your time planning\, selecting and doing while waiting for the outdoor season to begin again. This series of classes provides a post-beginner view of how to plan and get ready for your herb and vegetable garden. \nSIGN UP HERE
URL:https://hennepinmastergardeners.org/events/selecting-your-varieties/
CATEGORIES:Master Gardener Led Classes,On-line Events,Winter Dreaming for Summer Eating Series
ATTACH;FMTTYPE=image/jpeg:https://hennepinmastergardeners.org/wp-content/uploads/2021/01/SeedStarting_MinnesotaHennepinCountyMasterGardenerProgram_CarolineHallstrom_01-scaled.jpg
END:VEVENT
BEGIN:VEVENT
DTSTART;TZID=America/Menominee:20230207T190000
DTEND;TZID=America/Menominee:20230207T200000
DTSTAMP:20260423T210852
CREATED:20210103T222053Z
LAST-MODIFIED:20230112T144945Z
UID:10000013-1675796400-1675800000@hennepinmastergardeners.org
SUMMARY:Designing Your Vegetable Garden
DESCRIPTION:Designing Your Vegetable Garden\nDesigned to help begin or enhance your garden. We will cover how climate change is impacting Minnesota and factors to consider as you are planning your garden. Topics covered will include climate change information that is relevant to Minnesota gardeners\, soil health and testing\, plant selection\, companion planting\, garden types\, and watering methods. \nThis class will cover key topics one needs to consider in planning a vegetable garden and addressing challenges associated with climate change. \nThis class is part of a series called: Winter Dreaming for Summer Eating Series. A series of classes presented over four weeks by Hennepin County Master Gardeners. These classes are free to attend\, and you need only register once for the entire series. Each class will take place on a Saturday and will be repeated the following Tuesday. \nWhat does a gardener ponder about during the cold winter days? Dream about their summer vegetable garden\, of course.  Take a deeper dive to learn what you can spend your time planning\, selecting and doing while waiting for the outdoor season to begin again. This series of classes provides a post-beginner view of how to plan and get ready for your herb and vegetable garden. \nSIGN UP HERE
URL:https://hennepinmastergardeners.org/events/designing-your-vegetable-garden-2/
CATEGORIES:Master Gardener Led Classes,On-line Events,Winter Dreaming for Summer Eating Series
ATTACH;FMTTYPE=image/jpeg:https://hennepinmastergardeners.org/wp-content/uploads/2021/01/SquareFootGardening_MinnesotaHennepinCountyMasterGardenerProgram_CarolineHallstrom_07-scaled.jpg
END:VEVENT
BEGIN:VEVENT
DTSTART;TZID=America/Menominee:20230204T100000
DTEND;TZID=America/Menominee:20230204T110000
DTSTAMP:20260423T210852
CREATED:20210103T221715Z
LAST-MODIFIED:20230112T145059Z
UID:10000016-1675504800-1675508400@hennepinmastergardeners.org
SUMMARY:Designing Your Vegetable Garden
DESCRIPTION:Designing Your Vegetable Garden\nDesigned to help begin or enhance your garden. We will cover how climate change is impacting Minnesota and factors to consider as you are planning your garden. Topics covered will include climate change information that is relevant to Minnesota gardeners\, soil health and testing\, plant selection\, companion planting\, garden types\, and watering methods. \nThis class will cover key topics one needs to consider in planning a vegetable garden and addressing challenges associated with climate change. \nThis class is part of a series called: Winter Dreaming for Summer Eating Series. A series of classes presented over four weeks by Hennepin County Master Gardeners. These classes are free to attend\, and you need only register once for the entire series. Each class will take place on a Saturday and will be repeated the following Tuesday. \nWhat does a gardener ponder about during the cold winter days? Dream about their summer vegetable garden\, of course. Take a deeper dive to learn what you can spend your time planning\, selecting and doing while waiting for the outdoor season to begin again. This series of classes provides a post-beginner view of how to plan and get ready for your herb and vegetable garden. \nSIGN UP HERE
URL:https://hennepinmastergardeners.org/events/designing-your-vegetable-garden/
CATEGORIES:Master Gardener Led Classes,On-line Events,Winter Dreaming for Summer Eating Series
ATTACH;FMTTYPE=image/jpeg:https://hennepinmastergardeners.org/wp-content/uploads/2021/01/SquareFootGardening_MinnesotaHennepinCountyMasterGardenerProgram_CarolineHallstrom_07-scaled.jpg
END:VEVENT
END:VCALENDAR