BEGIN:VCALENDAR
VERSION:2.0
PRODID:-//Hennepin County Master Gardeners - ECPv6.15.17.1//NONSGML v1.0//EN
CALSCALE:GREGORIAN
METHOD:PUBLISH
X-WR-CALNAME:Hennepin County Master Gardeners
X-ORIGINAL-URL:https://hennepinmastergardeners.org
X-WR-CALDESC:Events for Hennepin County Master Gardeners
REFRESH-INTERVAL;VALUE=DURATION:PT1H
X-Robots-Tag:noindex
X-PUBLISHED-TTL:PT1H
BEGIN:VTIMEZONE
TZID:America/Chicago
BEGIN:DAYLIGHT
TZOFFSETFROM:-0600
TZOFFSETTO:-0500
TZNAME:CDT
DTSTART:20250309T080000
END:DAYLIGHT
BEGIN:STANDARD
TZOFFSETFROM:-0500
TZOFFSETTO:-0600
TZNAME:CST
DTSTART:20251102T070000
END:STANDARD
BEGIN:DAYLIGHT
TZOFFSETFROM:-0600
TZOFFSETTO:-0500
TZNAME:CDT
DTSTART:20260308T080000
END:DAYLIGHT
BEGIN:STANDARD
TZOFFSETFROM:-0500
TZOFFSETTO:-0600
TZNAME:CST
DTSTART:20261101T070000
END:STANDARD
BEGIN:DAYLIGHT
TZOFFSETFROM:-0600
TZOFFSETTO:-0500
TZNAME:CDT
DTSTART:20270314T080000
END:DAYLIGHT
BEGIN:STANDARD
TZOFFSETFROM:-0500
TZOFFSETTO:-0600
TZNAME:CST
DTSTART:20271107T070000
END:STANDARD
END:VTIMEZONE
BEGIN:VEVENT
DTSTART;TZID=America/Chicago:20260425T130000
DTEND;TZID=America/Chicago:20260425T140000
DTSTAMP:20260423T031621
CREATED:20260313T214241Z
LAST-MODIFIED:20260313T214302Z
UID:10001259-1777122000-1777125600@hennepinmastergardeners.org
SUMMARY:Starting Your Vegetable Garden
DESCRIPTION:Just starting out? Whether you are new to vegetable gardening or just looking for a refresher\, this presentation will give you all the information you need to get your vegetable garden started. From placement\, watering\, soils\, seeds vs. seedlings\, to tools and growing season\, we cover it all!
URL:https://hennepinmastergardeners.org/events/starting-your-vegetable-garden/
LOCATION:Eden Prairie Library\, 565 Prairie Center Drive\, Eden Prairie\, MN\, 55344\, United States
CATEGORIES:Master Gardener Led Classes
ATTACH;FMTTYPE=image/jpeg:https://hennepinmastergardeners.org/wp-content/uploads/2026/03/Vegetable-Garden.jpg
END:VEVENT
END:VCALENDAR