BEGIN:VCALENDAR
VERSION:2.0
PRODID:-//Hennepin County Master Gardeners - ECPv6.15.17.1//NONSGML v1.0//EN
CALSCALE:GREGORIAN
METHOD:PUBLISH
X-ORIGINAL-URL:https://hennepinmastergardeners.org
X-WR-CALDESC:Events for Hennepin County Master Gardeners
REFRESH-INTERVAL;VALUE=DURATION:PT1H
X-Robots-Tag:noindex
X-PUBLISHED-TTL:PT1H
BEGIN:VTIMEZONE
TZID:America/Chicago
BEGIN:DAYLIGHT
TZOFFSETFROM:-0600
TZOFFSETTO:-0500
TZNAME:CDT
DTSTART:20250309T080000
END:DAYLIGHT
BEGIN:STANDARD
TZOFFSETFROM:-0500
TZOFFSETTO:-0600
TZNAME:CST
DTSTART:20251102T070000
END:STANDARD
BEGIN:DAYLIGHT
TZOFFSETFROM:-0600
TZOFFSETTO:-0500
TZNAME:CDT
DTSTART:20260308T080000
END:DAYLIGHT
BEGIN:STANDARD
TZOFFSETFROM:-0500
TZOFFSETTO:-0600
TZNAME:CST
DTSTART:20261101T070000
END:STANDARD
BEGIN:DAYLIGHT
TZOFFSETFROM:-0600
TZOFFSETTO:-0500
TZNAME:CDT
DTSTART:20270314T080000
END:DAYLIGHT
BEGIN:STANDARD
TZOFFSETFROM:-0500
TZOFFSETTO:-0600
TZNAME:CST
DTSTART:20271107T070000
END:STANDARD
END:VTIMEZONE
BEGIN:VEVENT
DTSTART;TZID=America/Chicago:20260321T100000
DTEND;TZID=America/Chicago:20260321T230000
DTSTAMP:20260423T082455
CREATED:20260313T211228Z
LAST-MODIFIED:20260313T211405Z
UID:10001255-1774087200-1774134000@hennepinmastergardeners.org
SUMMARY:Square Foot Gardening
DESCRIPTION:Are you limited by garden space or interested in increasing the density of your garden to increase harvest?  This class covers basic square foot gardening techniques\, succession planting and management.
URL:https://hennepinmastergardeners.org/events/11133/
LOCATION:St. Louis Park Library\, 3240 Library Ln\, St. Louis Park\, MN\, 55426
CATEGORIES:Master Gardener Led Classes
ATTACH;FMTTYPE=image/jpeg:https://hennepinmastergardeners.org/wp-content/uploads/2026/02/seedStarting1.jpg
END:VEVENT
END:VCALENDAR